Workbook
Name assofirm: #REF!
Name cogm: #REF!
Name cogs: #REF!
Name demp: #REF!
Name fexp: #REF!
Name gsa: #REF!
Name iemp: #REF!
Name ndsv: #REF!
Name nsv: #REF!
Name POR: #REF!
Name ppc: #REF!
Name quest8: #REF!

Sheet Variables
A1: Variable | B1: English | C1: French | F1: Data Validation comments
A2: Case Number | B2: RR-2026-002 & RR-2026-003 | C2: =B2 -> RR-2026-002 & RR-2026-003 | F2: 1000 character limit | limite de 1000 caractères
A3: The Goods | B3: concrete reinforcing bar | C3: barres d'armature pour béton | F3: Maximum length reached. Please use the AddPub tab to add further info. | La limite maximale de caractères est atteinte. SVP utiliser l'onglet AddPub pour ajouter plus d'information.
A4: Type | B4: dumping | C4: le dumping | F4: Maximum length reached. Please use the AddPro tab to add further info. | La limite maximale de caractères est atteinte. SVP utiliser l'onglet AddPro pour ajouter plus d'information.
A5: Subject Countries (incl. French pronouns: de la, du, des) | B5: Algeria, Egypt, Indonesia, Italy, Malaysia, Singapore, Vietnam, Oman and Russia | C5: de l’Algérie, de l’Égypte, de l’Indonésie, de l’Italie, de la Malaisie, de Singapour, du Vietnam, d’Oman et de la Russie | D5: les pays sujets
A6: First Year of POR | B6: 2023 | C6: =B6 -> 2023 | F6: Important notes for formatting
A7: Last Day of POR | B7: June 30 | C7: 30 juin | F7: When adding or modifying columns, please ensure the total of all column widths in a tab equals 1760 pixels to allow for consistent scaling when exported to PDF.
A8: Last Year of POR | B8: 2025 | C8: =B8 -> 2025 | F8: i.e. columns B-L should be 160 pixels each.
A9: Int period 1 | B9: Jan-Jun 2025 | C9: janv-juin 2025 | F9: Insert and merge rows where needed to expand height of text boxes.
A10: Int period 2 | B10: Jan-Jun 2026 | C10: janv-juin 2026
A11: Due Date | B11: October 9, 2026 | C11: 9 octobre 2026
A13: Analyst 1 | B13: Thy Dao | C13: thy.dao@tribunal.gc.ca | D13: 613-558-6438
A14: Analyst 2 | B14: William Phan | C14: william.phan@tribunal.gc.ca | D14: 343-543-7269
A16: Product Defn | B16: Hot-rolled deformed steel concrete reinforcing bar in straight lengths or coils, commonly identified as rebar, in various diameters up to and including 56.4 millimeters, in various finishes, excluding plain round bar and fabricated rebar products. Also excluded is 10 mm diameter (10M) rebar produced to meet the requirements of CSA G30 18.09 (or equivalent standards) that is coated to meet the requirements of epoxy standard ASTM A775/A 775M 04a (or equivalent standards) in lengths from 1 foot (30.48 cm) up to and including 8 feet (243.84 cm). | C16: Barres d’armature crénelées pour béton en acier, laminées à chaud, en longueurs droites ou sous forme de bobines, souvent identifiées comme armature, de différents diamètres jusqu’à 56,4 millimètres inclusivement, de finitions différentes, excluant les barres rondes ordinaires et les produits de barres d’armature fabriqués. Sont aussi exclues les armatures d’un diamètre de 10 mm (10M) produites selon la norme CSA G30 18.09 (ou selon des normes équivalentes) et revêtues de résine époxyde selon la norme ASTM A775/A 775M 04a (ou selon des normes équivalentes) en longueurs de 1 pied (30,48 cm) jusques et y compris 8 pieds (243,84 cm).
A17: Additional Product Info | B17: https://www.cbsa-asfc.gc.ca/sima-lmsi/i-e/rb32020/rb32020-in-eng.html#toc4-2 | C17: https://www.cbsa-asfc.gc.ca/sima-lmsi/i-e/rb32020/rb32020-in-fra.html#toc4-2
B18: https://www.cbsa-asfc.gc.ca/sima-lmsi/i-e/rb42020/rb42020-fd-eng.html#toc5-2 | C18: https://www.cbsa-asfc.gc.ca/sima-lmsi/i-e/rb42020/rb42020-fd-fra.html#toc5-2
A19: HS Code defn change date | B19: Date of change | C19: Date de modification
A20: HS Codes before change | B20: 7213.10.00.11, 7213.10.00.12, 7213.10.00.13, 7213.10.00.90, 7214.20.00.11, 7214.20.00.12, 7214.20.00.13, 7214.20.00.14, 7214.20.00.21, 7214.20.00.22, 7214.20.00.23, 7214.20.00.24, 7214.20.00.31, 7214.20.00.32, 7214.20.00.33, 7214.20.00.34, 7214.20.00.90, 7215.90.00.20, 7215.90.00.30, 7227.90.00.50, 7228.30.00.51, 7228.30.00.52, 7228.30.00.53
A21: HS Codes after change | B21: HS codes/Codes SH
A23: Unit of measure (plural) | B23: tonnes | C23: tonnes
A24: Unit of measure (singular) | B24: tonne | C24: tonne
A26: Drop down lists | B26: Yes | C26: Oui | D26: =IF(Intro!$G$25="English",B26,C26) -> Oui
B27: No | C27: Non | D27: =IF(Intro!$G$25="English",B27,C27) -> Non

Sheet Intro
O1: hiddenc | P1: hiddenc
B2: PUBLIC | O2: English | P2: Français
B4: FOREIGN PRODUCER QUESTIONNAIRE | QUESTIONNAIRE À L'INTENTION DES PRODUCTEURS ÉTRANGERS
B5: =Variables!B2 -> RR-2026-002 & RR-2026-003
B6: =UPPER(Variables!B3&" | "&Variables!C3) -> CONCRETE REINFORCING BAR | BARRES D'ARMATURE POUR BÉTON
B8: INTRODUCTION
O9: SVP accorder ces mots : "défini/définis/définie/définies"; "originaire/originaires"; "exporté/exportés/exportée/exportées" selon le(s) mot(s) utilisé(s) pour décrire les biens couverts par ce RR (soit avec "les marchandises" (féminin pluriel) ou avec la définition de ces marchandises)
B10: ="The information requested in this questionnaire is for use by the Canadian International Trade Tribunal (the Tribunal) in connection with its expiry reviews concerning the "&Variables!B4&" of "&Variables!B3&" (as defined below) originating in or exported from "&Variables!B5&". Your firm's knowledge and experience would aid the Tribunal in the proper conduct of its expiry reviews by helping it better understand the Canadian market for "&Variables!B3&". The Tribunal therefore requests a response to this questionnaire from your firm." -> The information requested in this questionnaire is for use by the Canadian International Trade Tribunal (the Tribunal) in connection with its expiry reviews concerning the dumping of concrete reinforcing bar (as defined below) originating in or exported from Algeria, Egypt, Indonesia, Italy, Malaysia, Singapore, Vietnam, Oman and Russia. Your firm's knowledge and experience would aid the Tribunal in the proper conduct of its expiry reviews by helping it better understand the Canadian market for concrete reinforcing bar. The Tribunal therefore requests a response to this questionnaire from your firm. | H10: ="Les renseignements demandés dans le présent questionnaire seront utilisés par le Tribunal canadien du commerce extérieur (le Tribunal) dans le cadre de ses réexamens relatifs à l'expiration concernant "&Variables!C4&" de "&Variables!C3&" (telles que définies ci-dessous) originaires ou exportées "&Variables!C5&". Les connaissances et l'expérience de votre entreprise aideraient le Tribunal à mener correctement ses réexamens relatifs à l’expiration en lui permettant de mieux comprendre le marché canadien de "&Variables!C3&". Le Tribunal demande donc à votre entreprise de répondre à ce questionnaire." -> Les renseignements demandés dans le présent questionnaire seront utilisés par le Tribunal canadien du commerce extérieur (le Tribunal) dans le cadre de ses réexamens relatifs à l'expiration concernant le dumping de barres d'armature pour béton (telles que définies ci-dessous) originaires ou exportées de l’Algérie, de l’Égypte, de l’Indonésie, de l’Italie, de la Malaisie, de Singapour, du Vietnam, d’Oman et de la Russie. Les connaissances et l'expérience de votre entreprise aideraient le Tribunal à mener correctement ses réexamens relatifs à l’expiration en lui permettant de mieux comprendre le marché canadien de barres d'armature pour béton. Le Tribunal demande donc à votre entreprise de répondre à ce questionnaire.
B23: LANGUAGE PREFERENCE | PRÉFÉRENCE LINGUISTIQUE
B25: In which language would you prefer to complete this questionnaire? | G25: Français | H25: Dans quelle langue préférez-vous remplir ce questionnaire?
B29: =IF(Intro!$G$25="English",O29,P29) -> LA DÉFINITION "DES MARCHANDISES" | C29: =UPPER(IF(Intro!$G$25="English",P29,Q29)) | D29: =UPPER(IF(Intro!$G$25="English",Q29,R29)) | E29: =UPPER(IF(Intro!$G$25="English",R29,S29)) | G29: =UPPER(IF(Intro!$G$25="English",S29,T29)) | H29: =UPPER(IF(Intro!$G$25="English",T29,U29)) | I29: =UPPER(IF(Intro!$G$25="English",U29,V29)) | J29: =UPPER(IF(Intro!$G$25="English",V29,W29)) | K29: =UPPER(IF(Intro!$G$25="English",W29,X29)) | L29: =UPPER(IF(Intro!$G$25="English",X29,Y29)) | O29: DEFINITION OF "THE GOODS" | P29: LA DÉFINITION "DES MARCHANDISES"
B31: =IF(Intro!$G$25="English",O31,P31) -> Les références aux « marchandises » dans ce questionnaire font référence à : | O31: References to "the goods" in this questionnaire refer to: | P31: Les références aux « marchandises » dans ce questionnaire font référence à :
C33: =IF(Intro!$G$25="English",Variables!B16,Variables!C16) -> Barres d’armature crénelées pour béton en acier, laminées à chaud, en longueurs droites ou sous forme de bobines, souvent identifiées comme armature, de différents diamètres jusqu’à 56,4 millimètres inclusivement, de finitions différentes, excluant les barres rondes ordinaires et les produits de barres d’armature fabriqués. Sont aussi exclues les armatures d’un diamètre de 10 mm (10M) produites selon la norme CSA G30 18.09 (ou selon des normes équivalentes) et revêtues de résine époxyde selon la norme ASTM A775/A 775M 04a (ou selon des normes équivalentes) en longueurs de 1 pied (30,48 cm) jusques et y compris 8 pieds (243,84 cm).
B42: =IF(Intro!$G$25="English",O42,P42) -> Pour plus de détails, consultez l’onglet « Info ». | O42: For additional details, view the "Info" tab. | P42: Pour plus de détails, consultez l’onglet « Info ».
B45: =IF(Intro!$G$25="English",O45,P45) -> DEVEZ-VOUS REMPLIR CE QUESTIONNAIRE? | O45: DO YOU NEED TO COMPLETE THIS QUESTIONNAIRE? | P45: DEVEZ-VOUS REMPLIR CE QUESTIONNAIRE?
B47: =IF(Intro!$G$25="English",O47,P47) -> Votre entreprise a-t-elle produit les marchandises à tout moment depuis le 1er janvier 2023? | O47: ="Has your firm produced the goods at any time since January 1, "&Variables!B6&"?" -> Has your firm produced the goods at any time since January 1, 2023? | P47: ="Votre entreprise a-t-elle produit les marchandises à tout moment depuis le 1er janvier "&Variables!B6&"?" -> Votre entreprise a-t-elle produit les marchandises à tout moment depuis le 1er janvier 2023?
O48: Select Yes or No | P48: Sélectionnez oui ou non
B49: =IF(Intro!$G$25="English",O48,P48) -> Sélectionnez oui ou non | E49: =IF(D49="Yes",O49,IF(D49="Oui",P49,IF(D49="No",O50,IF(D49="Non",P50,"")))) | O49: ="Complete all tabs in this questionnaire and submit it by "&Variables!B11&"." -> Complete all tabs in this questionnaire and submit it by October 9, 2026. | P49: ="Remplissez tous les onglets de ce questionnaire et soumettez-le avant le "&Variables!C11&"." -> Remplissez tous les onglets de ce questionnaire et soumettez-le avant le 9 octobre 2026.
O50: ="Complete this tab only and submit it by "&Variables!B11&"." -> Complete this tab only and submit it by October 9, 2026. | P50: ="Remplissez cet onglet uniquement et soumettez-le avant le "&Variables!C11&"." -> Remplissez cet onglet uniquement et soumettez-le avant le 9 octobre 2026.
B53: =IF(Intro!$G$25="English",O53,P53) -> DATE D'ÉCHÉANCE DU QUESTIONNAIRE | O53: QUESTIONNAIRE DUE DATE | P53: DATE D'ÉCHÉANCE DU QUESTIONNAIRE
D55: =IF(Intro!$G$25="English",O55,P55) -> 9 octobre 2026 | O55: =Variables!B11 -> October 9, 2026 | P55: =Variables!C11 -> 9 octobre 2026
B59: =IF(Intro!$G$25="English",O59,P59) -> RENSEIGNEMENTS SUR L’ENTREPRISE | O59: FIRM INFORMATION | P59: RENSEIGNEMENTS SUR L’ENTREPRISE
B61: =IF(Intro!$G$25="English",O61,P61) -> Dénomination sociale (en français et en anglais, le cas échéant) | O61: Firm Name (In English and French, if applicable) | P61: Dénomination sociale (en français et en anglais, le cas échéant)
B63: =IF(Intro!$G$25="English",O63,P63) -> Adresse de l'entreprise | O63: Firm Address | P63: Adresse de l'entreprise
B65: =IF(Intro!$G$25="English",O65,P65) -> Adresse du site Web | O65: Website Address | P65: Adresse du site Web
B68: =IF(Intro!$G$25="English",O68,P68) -> Si votre entreprise a plus d’un emplacement, d’une installation ou d’un point de vente, transmettez une réponse consolidée au questionnaire. | O68: If your firm has more than one location, facility or outlet, submit a consolidated response to the questionnaire. | P68: Si votre entreprise a plus d’un emplacement, d’une installation ou d’un point de vente, transmettez une réponse consolidée au questionnaire.
B69: =IF(Intro!$G$25="English",O69,P69) -> Fournissez les noms et adresses des autres emplacements, installations et points de vente au Canada au nom de laquelle votre entreprise répond. | O69: Provide the names and addresses of other locations, facilities, and outlets in Canada on behalf of which your company is responding. | P69: Fournissez les noms et adresses des autres emplacements, installations et points de vente au Canada au nom de laquelle votre entreprise répond.
B81: =IF(Intro!$G$25="English",O81,P81) -> COORDONNÉES DE LA PERSONNE QUI A REMPLI LE QUESTIONNAIRE | O81: CONTACT INFORMATION OF THE PERSON WHO COMPLETED THIS QUESTIONNAIRE | P81: COORDONNÉES DE LA PERSONNE QUI A REMPLI LE QUESTIONNAIRE
B83: =IF(Intro!$G$25="English",O83,P83) -> Nom | O83: Name | P83: Nom
B85: =IF(Intro!$G$25="English",O85,P85) -> Titre | O85: Title | P85: Titre
B87: =IF(Intro!$G$25="English",O87,P87) -> Adresse courriel | O87: E-mail Address | P87: Adresse courriel
B89: =IF(Intro!$G$25="English",O89,P89) -> Téléphone | O89: Telephone | P89: Téléphone
B93: =IF(Intro!$G$25="English",O93,P93) -> ATTESTATION | O93: CERTIFICATION | P93: ATTESTATION
... B108: =IF(Intro!$G$25="English",O108,P108) -> Je comprends que le fait de cocher cette case constitue ma signature juridiquement contraignante. | O108: I understand that checking this box constitutes my legally binding signature. | P108: Je comprends que le fait de cocher cette case constitue ma signature juridiquement contraignante.
B111: =IF(Intro!$G$25="English",O111,P111) -> TRANSMISSION DU QUESTIONNAIRE REMPLI | C111: =UPPER(IF(Intro!$G$25="English",P111,Q111)) | D111: =UPPER(IF(Intro!$G$25="English",Q111,R111)) | E111: =UPPER(IF(Intro!$G$25="English",R111,S111)) | G111: =UPPER(IF(Intro!$G$25="English",S111,T111)) | H111: =UPPER(IF(Intro!$G$25="English",T111,U111)) | I111: =UPPER(IF(Intro!$G$25="English",U111,V111)) | J111: =UPPER(IF(Intro!$G$25="English",V111,W111)) | K111: =UPPER(IF(Intro!$G$25="English",W111,X111)) | L111: =UPPER(IF(Intro!$G$25="English",X111,Y111)) | O111: SUBMITTING THE QUESTIONNAIRE RESPONSE | P111: TRANSMISSION DU QUESTIONNAIRE REMPLI
B113: =IF(Intro!$G$25="English",O113,P113) -> Veuillez retourner le questionnaire rempli en utilisant l’une des options suivantes : | O113: The completed questionnaire can be submitted using one of the following methods: | P113: Veuillez retourner le questionnaire rempli en utilisant l’une des options suivantes :
B114: =IF($G$25="English",HYPERLINK("https://e-filing-depot-electronique.citt-tcce.gc.ca/submitNonRegisteredUser-eng.aspx","1. Secure E-filing service;"),IF($G$25="Français",HYPERLINK("https://e-filing-depot-electronique.citt-tcce.gc.ca/submitNonRegisteredUser-fra.aspx?","1. Service sécurisé de dépôt électronique;"),"")) -> 1. Service sécurisé de dépôt électronique;
B115: =IF(Intro!$G$25="English",O115,P115) -> Lorsque vous faites parvenir le questionnaire rempli en utilisant le service sécurisé de dépôt électronique, désignez le questionnaire comme étant confidentiel. Notez que l’information contenue dans les onglets publics (les onglets bleus) du questionnaire sera traitée en tant qu’information publique. | O115: When submitting the completed questionnaire using the secure E-filing service, designate the questionnaire as confidential. Note that the information in the public (blue) tabs in your questionnaire will be treated as public information. | P115: Lorsque vous faites parvenir le questionnaire rempli en utilisant le service sécurisé de dépôt électronique, désignez le questionnaire comme étant confidentiel. Notez que l’information contenue dans les onglets publics (les onglets bleus) du questionnaire sera traitée en tant qu’information publique.
B117: =IF(Intro!$G$25="English",O117,P117) -> 2. Par courriel à l'adresse tcce-citt@tribunal.gc.ca si vous acceptez les risques connexes et vous transmettez des renseignements qui sont ceux de votre entreprise seulement. | O117: 2. E-mail to citt-tcce@tribunal.gc.ca should you accept the associated risks and you are filing information that belongs to your firm only. | P117: 2. Par courriel à l'adresse tcce-citt@tribunal.gc.ca si vous acceptez les risques connexes et vous transmettez des renseignements qui sont ceux de votre entreprise seulement.
B120: QUESTIONS | C120: =UPPER(IF(Intro!$G$25="English",P120,Q120)) | D120: =UPPER(IF(Intro!$G$25="English",Q120,R120)) | E120: =UPPER(IF(Intro!$G$25="English",R120,S120)) | G120: =UPPER(IF(Intro!$G$25="English",S120,T120)) | H120: =UPPER(IF(Intro!$G$25="English",T120,U120)) | I120: =UPPER(IF(Intro!$G$25="English",U120,V120)) | J120: =UPPER(IF(Intro!$G$25="English",V120,W120)) | K120: =UPPER(IF(Intro!$G$25="English",W120,X120)) | L120: =UPPER(IF(Intro!$G$25="English",X120,Y120))
...

Sheet Info
A1: 8 | O1: hiddenc | P1: hiddenc
B2: PUBLIC | O2: English | P2: Français
B4: =IF(Intro!$G$25="English",O4,P4) -> QUESTIONNAIRE À L'INTENTION DES PRODUCTEURS ÉTRANGERS | O4: FOREIGN PRODUCER QUESTIONNAIRE | P4: QUESTIONNAIRE À L'INTENTION DES PRODUCTEURS ÉTRANGERS
B5: =Intro!B5 -> RR-2026-002 & RR-2026-003
B6: =UPPER(IF(Intro!$G$25="English",Variables!B3,Variables!C3)) -> BARRES D'ARMATURE POUR BÉTON
B8: =IF(Intro!$G$25="English",O8,P8) -> APERÇU DU QUESTIONNAIRE | C8: =UPPER(IF(Intro!$G$25="English",P8,Q8)) | E8: =UPPER(IF(Intro!$G$25="English",Q8,R8)) | F8: =UPPER(IF(Intro!$G$25="English",R8,S8)) | G8: =UPPER(IF(Intro!$G$25="English",S8,T8)) | H8: =UPPER(IF(Intro!$G$25="English",T8,U8)) | I8: =UPPER(IF(Intro!$G$25="English",U8,V8)) | J8: =UPPER(IF(Intro!$G$25="English",V8,W8)) | K8: =UPPER(IF(Intro!$G$25="English",W8,X8)) | L8: =UPPER(IF(Intro!$G$25="English",X8,Y8)) | O8: QUESTIONNAIRE OUTLINE | P8: APERÇU DU QUESTIONNAIRE
B10: =IF(Intro!$G$25="English",O10,P10) -> Le présent questionnaire est divisé en deux parties : | O10: This questionnaire is divided into two parts: | P10: Le présent questionnaire est divisé en deux parties :
B12: =IF(Intro!$G$25="English",O12,P12) -> PARTIE I (onglets bleus) - porte sur des renseignements de nature publique. Les demandes de traiter un ou des renseignements comme des renseignements confidentiels doivent être dûment justifiées par écrit et être accompagnées d’une version publique remaniée. | O12: PART I (Blue Tabs) - Information requested in this part is public. Requests to treat any of this information as confidential must be fully justified in writing and accompanied by a redacted version for the public record. | P12: PARTIE I (onglets bleus) - porte sur des renseignements de nature publique. Les demandes de traiter un ou des renseignements comme des renseignements confidentiels doivent être dûment justifiées par écrit et être accompagnées d’une version publique remaniée.
B15: =IF(Intro!$G$25="English",O15,P15) -> PARTIE II (onglets verts) - Les renseignements de nature confidentielle seront traités conformément aux articles 43 à 49 de la Loi sur le Tribunal canadien du commerce extérieur, qui précisent que ces renseignements ne doivent pas être rendus publics de manière à pouvoir être utilisés par un concurrent de la personne, de l’entreprise ou de la société déclarante. | O15: PART II (Green Tabs) - Information requested in this part is considered to be confidential in nature and will be treated in accordance with sections 43 to 49 of the Canadian International Trade Tribunal Act, which require that it shall not be made public in such a manner as to be available for the use of any business competitor or rival of the reporting person, firm or corporation. | P15: PARTIE II (onglets verts) - Les renseignements de nature confidentielle seront traités conformément aux articles 43 à 49 de la Loi sur le Tribunal canadien du commerce extérieur, qui précisent que ces renseignements ne doivent pas être rendus publics de manière à pouvoir être utilisés par un concurrent de la personne, de l’entreprise ou de la société déclarante.
B19: =IF(Intro!$G$25="English",O19,P19) -> RENSEIGNEMENTS ADDITIONNELS SUR LE PRODUIT | C19: =UPPER(IF(Intro!$G$25="English",P19,Q19)) | E19: =UPPER(IF(Intro!$G$25="English",Q19,R19)) | F19: =UPPER(IF(Intro!$G$25="English",R19,S19)) | G19: =UPPER(IF(Intro!$G$25="English",S19,T19)) | H19: =UPPER(IF(Intro!$G$25="English",T19,U19)) | I19: =UPPER(IF(Intro!$G$25="English",U19,V19)) | J19: =UPPER(IF(Intro!$G$25="English",V19,W19)) | K19: =UPPER(IF(Intro!$G$25="English",W19,X19)) | L19: =UPPER(IF(Intro!$G$25="English",X19,Y19)) | O19: ADDITIONAL PRODUCT INFORMATION | P19: RENSEIGNEMENTS ADDITIONNELS SUR LE PRODUIT
B21: =IF(Intro!$G$25="English",HYPERLINK(Variables!B17),HYPERLINK(Variables!C17)) -> https://www.cbsa-asfc.gc.ca/sima-lmsi/i-e/rb32020/rb32020-in-fra.html#toc4-2
B22: =IF(Intro!$G$25="English",HYPERLINK(Variables!B18),HYPERLINK(Variables!C18)) -> https://www.cbsa-asfc.gc.ca/sima-lmsi/i-e/rb42020/rb42020-fd-fra.html#toc5-2
B24: =IF(Intro!$G$25="English",O24,P24) -> TARIF DES DOUANES | C24: =UPPER(IF(Intro!$G$25="English",P24,Q24)) | E24: =UPPER(IF(Intro!$G$25="English",Q24,R24)) | F24: =UPPER(IF(Intro!$G$25="English",R24,S24)) | G24: =UPPER(IF(Intro!$G$25="English",S24,T24)) | H24: =UPPER(IF(Intro!$G$25="English",T24,U24)) | I24: =UPPER(IF(Intro!$G$25="English",U24,V24)) | J24: =UPPER(IF(Intro!$G$25="English",V24,W24)) | K24: =UPPER(IF(Intro!$G$25="English",W24,X24)) | L24: =UPPER(IF(Intro!$G$25="English",X24,Y24)) | O24: CUSTOMS TARIFF | P24: TARIF DES DOUANES
B26: =IF(Intro!$G$25="English",O26,P26) -> Les marchandises sont généralement classées dans le Tarif des douanes sous les numéros suivants du Système harmonisé de désignation et de codification des marchandises (SH) : | O26: The goods are commonly classified in the Customs Tariff under the following Harmonized Commodity Description and Coding System (HS) numbers: | P26: Les marchandises sont généralement classées dans le Tarif des douanes sous les numéros suivants du Système harmonisé de désignation et de codification des marchandises (SH) :
D28: =Variables!B20 -> 7213.10.00.11, 7213.10.00.12, 7213.10.00.13, 7213.10.00.90, 7214.20.00.11, 7214.20.00.12, 7214.20.00.13, 7214.20.00.14, 7214.20.00.21, 7214.20.00.22, 7214.20.00.23, 7214.20.00.24, 7214.20.00.31, 7214.20.00.32, 7214.20.00.33, 7214.20.00.34, 7214.20.00.90, 7215.90.00.20, 7215.90.00.30, 7227.90.00.50, 7228.30.00.51, 7228.30.00.52, 7228.30.00.53 | O28: ="Prior to "&Variables!B19&":" -> Prior to Date of change: | P28: ="Avant le "&Variables!C19&" :" -> Avant le Date de modification :
B34: =IF(Intro!$G$25="English",O34,P34) -> GLOSSAIRE | C34: GLOSSAIRE | O34: GLOSSARY | P34: GLOSSAIRE
B35: =IF(Intro!$G$25="English",O35,P35) -> La capacité pratique des usines | D35: =IF(Intro!$G$25="English",O36,P36) -> Correspond au niveau de rendement le plus élevé du matériel et de l’outillage utilisés dans la production des marchandises et de tous les autres produits (utilisant le même équipement) que vos usines peuvent atteindre en continu, tout en appliquant un régime de travail réaliste. Il convient de tenir compte de la gamme de produits fabriqués, du nombre de périodes de travail par jour, du nombre de jours d’exploitation par année, etc., au cours des cinq dernières années. | O35: Practical plant capacity | P35: La capacité pratique des usines
O36: The greatest level of output from the machinery and equipment used in the production of the goods and all other products (using the same equipment) that your plants can achieve on a continuous basis within the framework of a realistic work pattern. Consideration should be given to the typical product mix, number of shifts per day, annual operating days, etc., over the past five years. | P36: Correspond au niveau de rendement le plus élevé du matériel et de l’outillage utilisés dans la production des marchandises et de tous les autres produits (utilisant le même équipement) que vos usines peuvent atteindre en continu, tout en appliquant un régime de travail réaliste. Il convient de tenir compte de la gamme de produits fabriqués, du nombre de périodes de travail par jour, du nombre de jours d’exploitation par année, etc., au cours des cinq dernières années.
B39: =IF(Intro!$G$25="English",O39,P39) -> Entreprises affiliées | D39: =IF(Intro!$G$25="English",O40,P40) -> Des entreprises liées l’une à l’autre de quelque façon que ce soit autre qu’une relation client-fournisseur sans lien de dépendance. Par exemple, des entreprises sont associées ou liées si un cadre ou un directeur de l’une est cadre ou directeur de l’autre, si une entreprise, directement ou indirectement, possède, détient ou contrôle des actions de l’autre entreprise. | O39: Related firms | P39: Entreprises affiliées
O40: Firms that are related to each other in any manner other than through an arm’s length (independent) customer/supplier relationship. For example, firms are associated or related if an officer or director of one firm is an officer or director of the other, if a firm directly or indirectly owns, holds or controls shares of the other firm. | P40: Des entreprises liées l’une à l’autre de quelque façon que ce soit autre qu’une relation client-fournisseur sans lien de dépendance. Par exemple, des entreprises sont associées ou liées si un cadre ou un directeur de l’une est cadre ou directeur de l’autre, si une entreprise, directement ou indirectement, possède, détient ou contrôle des actions de l’autre entreprise.

Sheet Public
O1: hiddenc | P1: hiddenc
B2: PUBLIC | O2: English | P2: Français
B4: =Info!B4 -> QUESTIONNAIRE À L'INTENTION DES PRODUCTEURS ÉTRANGERS | O4: SVP accorder ces mots : "défini/définis/définie/définies"; "originaire/originaires"; "exporté/exportés/exportée/exportées" selon le(s) mot(s) utilisé(s) pour décrire les biens couverts par ce RR (soit avec "les marchandises" (féminin pluriel) ou avec la définition de ces marchandises)
B5: =Info!B5 -> RR-2026-002 & RR-2026-003
B6: =Info!B6 -> BARRES D'ARMATURE POUR BÉTON
B8: =IF(Intro!$G$25="English",O8,P8) -> Les marchandises dans les questions suivantes font référence au barres d'armature pour béton comme définies dans la description du produit de l'onglet Intro. | O8: ="The goods in the following questions refer to "&Variables!B3&" as defined in the product description on the Intro tab." -> The goods in the following questions refer to concrete reinforcing bar as defined in the product description on the Intro tab. | P8: ="Les marchandises dans les questions suivantes font référence au "&Variables!C3& " comme définies dans la description du produit de l'onglet Intro." -> Les marchandises dans les questions suivantes font référence au barres d'armature pour béton comme définies dans la description du produit de l'onglet Intro.
B9: =IF(Intro!$G$25="English",O9,P9) -> Des informations sur le produit et un glossaire de termes sont disponibles dans l'onglet Info. | O9: Product information and a glossary of terms can be found in the Info tab. | P9: Des informations sur le produit et un glossaire de termes sont disponibles dans l'onglet Info.
B10: =IF(Intro!$G$25="English",O10,P10) -> Utilisez l'onglet AddPub si vous avez besoin de plus d'espace. | O10: Use the AddPub tab if more space is needed. | P10: Utilisez l'onglet AddPub si vous avez besoin de plus d'espace.
B12: =IF(Intro!$G$25="English",O12,P12) -> INFORMATIONS GÉNÉRALES SUR L'ENTREPRISE | O12: GENERAL FIRM INFORMATION | P12: INFORMATIONS GÉNÉRALES SUR L'ENTREPRISE
B13: Question 1
B15: =IF(Intro!$G$25="English",O15,P15) -> Donnez un bref historique de votre entreprise, en insistant plus particulièrement sur les activités entourant les marchandises. | O15: Provide a brief history of your firm, with particular emphasis on activities regarding the goods. | P15: Donnez un bref historique de votre entreprise, en insistant plus particulièrement sur les activités entourant les marchandises.
B26: Question 2
B28: =IF(Intro!$G$25="English",O28,P28) -> Fournissez des détails concernant les mesures antidumping et/ou compensatoires imposées par les autorités d'un pays autre que le Canada à l'égard des marchandises ou des marchandises similaires auxquelles votre pays ou votre entreprise est assujetti depuis le 1er janvier 2023. | O28: ="Provide details concerning anti-dumping and countervailing measures imposed by authorities of a country other than Canada in respect of the goods or similar goods to which your country or your firm has been subject since January 1, "&Variables!B6&"." -> Provide details concerning anti-dumping and countervailing measures imposed by authorities of a country other than Canada in respect of the goods or similar goods to which your country or your firm has been subject since January 1, 2023. | P28: ="Fournissez des détails concernant les mesures antidumping et/ou compensatoires imposées par les autorités d'un pays autre que le Canada"&" à l'égard des marchandises ou des marchandises similaires auxquelles votre pays ou votre entreprise est assujetti depuis le 1er janvier "&Variables!B6&"." -> Fournissez des détails concernant les mesures antidumping et/ou compensatoires imposées par les autorités d'un pays autre que le Canada à l'égard des marchandises ou des marchandises similaires auxquelles votre pays ou votre entreprise est assujetti depuis le 1er janvier 2023.
B40: Question 3
B42: =IF(Intro!$G$25="English",O42,P42) -> Dressez la liste des dénominations et adresses de toutes les entreprises canadiennes ou étrangères auxquelles votre entreprise est reliée, c'est-à-dire des entreprises avec qui votre entreprise est liée de quelque façon que ce soit autre qu’une relation client-fournisseur sans lien de dépendance. Par exemple, des entreprises sont associées ou liées si un cadre ou un directeur de l’une est cadre ou directeur de l’autre, si une entreprise, directement ou indirectement, possède, détient ou contrôle des actions de l’autre entreprise. Pour chaque entreprise, veuillez indiquer le type d’affiliation et son rôle dans l'industrie (par exemple, la production, l’exportation, l’importation, la vente, l’achat de marchandises ou l’approvisionnement de matières premières pour la production des marchandises). | O42: List the names and addresses of any foreign or Canadian firms related to your firm, i.e. firms that your firm is related to in any manner other than through an arm’s length (independent) customer/supplier relationship. For example, firms are associated or related if an officer or director of one firm is an officer or director of the other, if a firm directly or indirectly owns, holds or controls shares of the other firm. For each firm, indicate the nature of your association and its role in the industry (for example: production, export, import, sale, purchase of the goods or supply of direct materials used to produce the goods). | P42: Dressez la liste des dénominations et adresses de toutes les entreprises canadiennes ou étrangères auxquelles votre entreprise est reliée, c'est-à-dire des entreprises avec qui votre entreprise est liée de quelque façon que ce soit autre qu’une relation client-fournisseur sans lien de dépendance. Par exemple, des entreprises sont associées ou liées si un cadre ou un directeur de l’une est cadre ou directeur de l’autre, si une entreprise, directement ou indirectement, possède, détient ou contrôle des actions de l’autre entreprise. Pour chaque entreprise, veuillez indiquer le type d’affiliation et son rôle dans l'industrie (par exemple, la production, l’exportation, l’importation, la vente, l’achat de marchandises ou l’approvisionnement de matières premières pour la production des marchandises).
C47: =IF(Intro!$G$25="English",O49,P49) -> Dénomination sociale de l'entreprise | E47: =IF(Intro!$G$25="English",O51,P51) -> Adresse de l'entreprise | G47: =IF(Intro!$G$25="English",O53,P53) -> Type d'affiliation | J47: =IF(Intro!$G$25="English",O55,P55) -> Rôle dans l'industrie
B49: 1 | O49: Firm Name | P49: Dénomination sociale de l'entreprise
B51: 2 | O51: Firm Address | P51: Adresse de l'entreprise
B53: 3 | O53: Nature of association | P53: Type d'affiliation
B55: 4 | O55: Role in the Industry | P55: Rôle dans l'industrie
B57: 5 | O57: Firm Name | P57: Dénomination sociale de l'entreprise
B59: 6 | O59: Firm Address | P59: Adresse de l'entreprise
B61: 7 | O61: Nature of association | P61: Type d'affiliation
B63: 8 | O63: Role in the Industry | P63: Rôle dans l'industrie
B65: 9 | O65: Nature of association | P65: Type d'affiliation
B67: 10 | O67: Role in the Industry | P67: Rôle dans l'industrie
B71: PRODUCTION
B72: Question 4
B74: =IF(Intro!$G$25="English",O74,P74) -> Fournissez les informations suivantes concernant la production de toutes les marchandises de votre entreprise aux pays sujets (l’Algérie, l’Égypte, l’Indonésie, l’Italie, la Malaisie, Singapour, le Vietnam, Oman et la Russie). | O74: ="Provide the following information about the production of all of your firm's goods in "&Variables!B5&"." -> Provide the following information about the production of all of your firm's goods in Algeria, Egypt, Indonesia, Italy, Malaysia, Singapore, Vietnam, Oman and Russia. | P74: ="Fournissez les informations suivantes concernant la production de toutes les marchandises de votre entreprise aux pays sujets (l’Algérie, l’Égypte, l’Indonésie, l’Italie, la Malaisie, Singapour, le Vietnam, Oman et la Russie)." -> Fournissez les informations suivantes concernant la production de toutes les marchandises de votre entreprise aux pays sujets (l’Algérie, l’Égypte, l’Indonésie, l’Italie, la Malaisie, Singapour, le Vietnam, Oman et la Russie).
C76: =IF(Intro!$G$25="English",O76,P76) -> Dénomination sociale et emplacement de l'établissement | E76: =IF(Intro!$G$25="English",O82,P82) -> Expliquez si cette installation produit les marchandises destinées au marché canadien et/ou à d'autres marchés d'exportation. | G76: =IF(Intro!$G$25="English",O92,P92) -> Description et spécifications des marchandises produites | I76: =IF(Intro!$G$25="English",O102,P102) -> Si cette installation ne produit pas les marchandises, quelles modifications seraient nécessaires pour pouvoir produire les marchandises? | K76: =IF(Intro!$G$25="English",O112,P112) -> Quels autres produits, le cas échéant, pourraient être fabriqués à l’aide du même outillage utilisé pour la production des marchandises? | O76: Facility Name and Location | P76: Dénomination sociale et emplacement de l'établissement
B82: 1 | O82: Explain whether this facility produces the goods for the Canadian market and other export markets. | P82: Expliquez si cette installation produit les marchandises destinées au marché canadien et/ou à d'autres marchés d'exportation.
B92: 2 | O92: Description and specifications of the goods produced | P92: Description et spécifications des marchandises produites
B102: 3 | O102: If this facility does not produce the goods, what modifications would be needed to be able to produce the goods? | P102: Si cette installation ne produit pas les marchandises, quelles modifications seraient nécessaires pour pouvoir produire les marchandises?
B112: 4 | O112: What other products, if any, can be produced on the same equipment used to produce the goods? | P112: Quels autres produits, le cas échéant, pourraient être fabriqués à l’aide du même outillage utilisé pour la production des marchandises?
B122: 5
B132: 6
B142: 7
B152: 8
B162: 9
B172: 10
...

Sheet AddPub
O1: hiddenc | P1: hiddenc
B2: PUBLIC | O2: English | P2: Français
B4: =Info!B4 -> QUESTIONNAIRE À L'INTENTION DES PRODUCTEURS ÉTRANGERS
B5: =Info!B5 -> RR-2026-002 & RR-2026-003
B6: =Info!B6 -> BARRES D'ARMATURE POUR BÉTON
B8: =UPPER(IF(Intro!$G$25="English",O8,P8)) -> COMMENTAIRES PUBLICS | O8: PUBLIC COMMENTS | P8: COMMENTAIRES PUBLICS
B10: =IF(Intro!$G$25="English",O10,P10) -> Si votre entreprise désire ajouter des commentaires concernant vos réponses, vous les inscrivez ici. Indiquez à quelle question se rapportent vos commentaires. | O10: Should your firm wish to add any comments related to its responses, submit them here. Be sure to indicate the question number being commented on. | P10: Si votre entreprise désire ajouter des commentaires concernant vos réponses, vous les inscrivez ici. Indiquez à quelle question se rapportent vos commentaires.
O11: Tab and Question | P11: Onglet et question
A12: AA | C12: =IF(Intro!$G$25="English",O11,P11) -> Onglet et question | D12: =IF(Intro!$G$25="English",O12,P12) -> Commentaires | O12: Comments | P12: Commentaires
B13: =IF(Intro!$G$25="English",O13,P13) -> Commentaire 1 | O13: Comment 1 | P13: Commentaire 1
B23: =IF(Intro!$G$25="English",O23,P23) -> Commentaire 2 | O23: Comment 2 | P23: Commentaire 2
B33: =IF(Intro!$G$25="English",O33,P33) -> Commentaire 3 | O33: Comment 3 | P33: Commentaire 3
B43: =IF(Intro!$G$25="English",O43,P43) -> Commentaire 4 | O43: Comment 4 | P43: Commentaire 4
B53: =IF(Intro!$G$25="English",O53,P53) -> Commentaire 5 | O53: Comment 5 | P53: Commentaire 5

Sheet Pro 1
O1: hiddenc | P1: hiddenc
B2: =IF(Intro!$G$25="English",O3,P3) -> PROTÉGÉ | O2: English | P2: Français
O3: PROTECTED | P3: PROTÉGÉ
B4: =Info!B4 -> QUESTIONNAIRE À L'INTENTION DES PRODUCTEURS ÉTRANGERS
B5: =Info!B5 -> RR-2026-002 & RR-2026-003
B6: =Info!B6 -> BARRES D'ARMATURE POUR BÉTON
B8: =Public!B8 -> Les marchandises dans les questions suivantes font référence au barres d'armature pour béton comme définies dans la description du produit de l'onglet Intro.
B9: =Public!B9 -> Des informations sur le produit et un glossaire de termes sont disponibles dans l'onglet Info.
B10: =IF(Intro!$G$25="English",O10,P10) -> Utilisez l'onglet AddPro si vous avez besoin de plus d'espace. | O10: Use the AddPro tab if more space is needed. | P10: ="Utilisez l'onglet AddPro si vous avez besoin de plus d'espace."&CHAR(10) -> Utilisez l'onglet AddPro si vous avez besoin de plus d'espace.
B12: =UPPER(IF(Intro!$G$25="English",O12,P12)) -> PRODUCTION ET CAPACITÉ | O12: PRODUCTION AND CAPACITY | P12: PRODUCTION ET CAPACITÉ
B13: Question 1
B15: =IF(Intro!$G$25="English",O15,P15) -> Remplir le tableau suivant pour la production des marchandises par votre entreprise et d'autres produits fabriqués avec le même équipement. | O15: Complete the following table for your firm's production of the goods and other products made with the same equipment. | P15: Remplir le tableau suivant pour la production des marchandises par votre entreprise et d'autres produits fabriqués avec le même équipement.
G17: =Variables!B6 -> 2023 | H17: =G17+1 -> 2024 | I17: =H17+1 -> 2025 | J17: =IF(Intro!$G$25="English",Variables!B9,Variables!C9) -> janv-juin 2025 | K17: =IF(Intro!$G$25="English",Variables!B10,Variables!C10) -> janv-juin 2026
B19: =IF(Intro!$G$25="English",O19,P19) -> Production des marchandises | F19: =IF(Intro!$G$25="English",Variables!$B$23,Variables!$C$23) -> tonnes | O19: Production of the goods | P19: Production des marchandises
B20: =IF(Intro!$G$25="English",O20,P20) -> Production d'autres produits fabriqués avec le même équipement | F20: =IF(Intro!$G$25="English",Variables!$B$23,Variables!$C$23) -> tonnes | O20: Production of other products made with the same equipment | P20: Production d'autres produits fabriqués avec le même équipement
B21: =IF(Intro!$G$25="English",O21,P21) -> Total | F21: =IF(Intro!$G$25="English",Variables!$B$23,Variables!$C$23) -> tonnes | G21: =SUM(G19:G20) -> 0 | H21: =SUM(H19:H20) -> 0 | I21: =SUM(I19:I20) -> 0 | J21: =SUM(J19:J20) -> 0 | K21: =SUM(K19:K20) -> 0 | O21: Total | P21: Total
B22: =IF(Intro!$G$25="English",O22,P22) -> Capacité pratique des usines | F22: =IF(Intro!$G$25="English",Variables!$B$23,Variables!$C$23) -> tonnes | O22: Practical plant capacity | P22: Capacité pratique des usines
B23: =IF(Intro!$G$25="English",O23,P23) -> Taux d'utilisation des capacités des marchandises | F23: % | G23: =IF(G22=0,"-",G19/G22*100) -> - | H23: =IF(H22=0,"-",H19/H22*100) -> - | I23: =IF(I22=0,"-",I19/I22*100) -> - | J23: =IF(J22=0,"-",J19/J22*100) -> - | K23: =IF(K22=0,"-",K19/K22*100) -> - | O23: Capacity utilization rate of the goods | P23: Taux d'utilisation des capacités des marchandises
B24: =IF(Intro!$G$25="English",O24,P24) -> Taux d'utilisation total des capacités | F24: % | G24: =IF(G22=0,"-",G21/G22*100) -> - | H24: =IF(H22=0,"-",H21/H22*100) -> - | I24: =IF(I22=0,"-",I21/I22*100) -> - | J24: =IF(J22=0,"-",J21/J22*100) -> - | K24: =IF(K22=0,"-",K21/K22*100) -> - | O24: Total capacity utilization rate | P24: Taux d'utilisation total des capacités
B26: Question 2
B28: =IF(Intro!$G$25="English",O28,P28) -> Fournissez des détails sur la façon dont votre entreprise détermine la capacité pratique des usines. | O28: Explain in detail how your firm determines practical plant capacity. | P28: Fournissez des détails sur la façon dont votre entreprise détermine la capacité pratique des usines.
B39: Question 3
B41: =IF(Intro!$G$25="English",O41,P41) -> Si l'un ou l'autre des taux d'utilisation de la capacité, telle que calculée, est supérieur à 100 %, expliquez. | O41: If any of the calculated capacity utilization rates are higher than 100%, explain why this has occurred. | P41: Si l'un ou l'autre des taux d'utilisation de la capacité, telle que calculée, est supérieur à 100 %, expliquez.
B52: Question 4
B54: =IF(Intro!$G$25="English",O54,P54) -> Si la capacité pratique de l’usine a changé depuis le 1er janvier 2023, expliquez comment cela a été réalisé. | O54: ="If practical plant capacity has changed since January 1, "&Variables!$B$6&", explain how this was achieved." -> If practical plant capacity has changed since January 1, 2023, explain how this was achieved. | P54: ="Si la capacité pratique de l’usine a changé depuis le 1er janvier "&Variables!B6&", expliquez comment cela a été réalisé." -> Si la capacité pratique de l’usine a changé depuis le 1er janvier 2023, expliquez comment cela a été réalisé.
B65: Question 5
B67: =IF(Intro!$G$25="English",O67,P67) -> Décrivez les plans de votre entreprise pour augmenter ou diminuer la capacité pratique de son usine de marchandises au cours des deux prochaines années, y compris les dates cibles, la capacité pratique cible de l'usine, les usines concernées et les raisons du changement. | O67: Describe your firm’s plans to increase or decrease its practical plant capacity of the goods in the next two years, including target dates, target practical plant capacity, the plants involved and the reasons for the change. | P67: Décrivez les plans de votre entreprise pour augmenter ou diminuer la capacité pratique de son usine de marchandises au cours des deux prochaines années, y compris les dates cibles, la capacité pratique cible de l'usine, les usines concernées et les raisons du changement.
B79: Question 6
B81: =IF(Intro!$G$25="English",O81,P81) -> Décrivez les plans de votre entreprise pour accroître, réduire ou cesser sa production des marchandises d'ici les deux prochaines années, soit dans ses installations où sont fabriquées actuellement des marchandises, soit dans ses installations où sont fabriqués d’autres produits. Fournissez les motifs et les hypothèses sous-tendant ces objectifs et ces stratégies. | O81: Describe your firm’s plans to increase, decrease or shut down its production of the goods, either at facilities currently producing the goods or currently being used to produce other products, in the next two years. Provide the rationale and assumptions underlying these strategies and objectives. | P81: Décrivez les plans de votre entreprise pour accroître, réduire ou cesser sa production des marchandises d'ici les deux prochaines années, soit dans ses installations où sont fabriquées actuellement des marchandises, soit dans ses installations où sont fabriqués d’autres produits. Fournissez les motifs et les hypothèses sous-tendant ces objectifs et ces stratégies.
B93: Question 7
B95: =IF(Intro!$G$25="English",O95,P95) -> Décrivez les plans de votre entreprise visant à modifier la gamme de produits fabriqués sur le même équipement au cours des deux prochaines années. Fournissez les motifs et les hypothèses sous-tendant ces objectifs et ces stratégies. | O95: Describe your firm’s plans to change the product mix of the goods produced on the same equipment, in the next two years. Provide the rationale and assumptions underlying these strategies and objectives. | P95: Décrivez les plans de votre entreprise visant à modifier la gamme de produits fabriqués sur le même équipement au cours des deux prochaines années. Fournissez les motifs et les hypothèses sous-tendant ces objectifs et ces stratégies.

Sheet Pro 2
O1: hiddenc | P1: hiddenc
B2: ='Pro 1'!B2 -> PROTÉGÉ | O2: English | P2: Français
B4: =Info!B4 -> QUESTIONNAIRE À L'INTENTION DES PRODUCTEURS ÉTRANGERS
B5: =Info!B5 -> RR-2026-002 & RR-2026-003
B6: =Info!B6 -> BARRES D'ARMATURE POUR BÉTON
B8: =Public!B8 -> Les marchandises dans les questions suivantes font référence au barres d'armature pour béton comme définies dans la description du produit de l'onglet Intro.
B9: =Public!B9 -> Des informations sur le produit et un glossaire de termes sont disponibles dans l'onglet Info.
B10: ='Pro 1'!B10 -> Utilisez l'onglet AddPro si vous avez besoin de plus d'espace.
B12: =IF(Intro!$G$25="English",O12,P12) -> Pour les questions de cet onglet, notez ce qui suit : | O12: For the questions in this tab, note the following: | P12: Pour les questions de cet onglet, notez ce qui suit :
B13: =IF(Intro!$G$25="English",O13,P13) -> • Indiquez seulement les ventes effectuées à partir de la production de votre entreprise. | O13: • Report only sales of your firm’s production. | P13: • Indiquez seulement les ventes effectuées à partir de la production de votre entreprise.
B14: =IF(Intro!$G$25="English",O14,P14) -> • Déclarez toutes les ventes aux entreprises associées canadiennes et étrangères. | O14: • Report all sales to Canadian and foreign associated firms. | P14: • Déclarez toutes les ventes aux entreprises associées canadiennes et étrangères.
B15: =IF(Intro!$G$25="English",O15,P15) -> • Déclarez toutes les ventes à compter de la date de l’expédition au client ou à son entrepôt. | O15: • Report all sales as of the date of shipment to the customer or the customer’s warehouse. | P15: • Déclarez toutes les ventes à compter de la date de l’expédition au client ou à son entrepôt.
B16: =IF(Intro!$G$25="English",O16,P16) -> • Déclarez toutes les valeurs en dollars canadiens. | O16: • Report all values in Canadian dollars. | P16: • Déclarez toutes les valeurs en dollars canadiens.
B18: =IF(Intro!$G$25="English",O18,P18) -> VENTES ET STOCKS | O18: SALES AND INVENTORIES | P18: VENTES ET STOCKS
B19: Question 1
B21: =IF(Intro!$G$25="English",O21,P21) -> Fournissez les estimations suivantes en pourcentage: | O21: Provide the following estimated percentages: | P21: Fournissez les estimations suivantes en pourcentage:
L23: =Variables!$B$6+2 -> 2025
B24: =IF(Intro!$G$25="English",O24,P24) -> Le volume des ventes des marchandises de votre entreprise divisé par le volume des ventes totales de votre entreprise | K24: % | O24: Your firm's sales volume of the goods divided by your firm's total sales volume | P24: Le volume des ventes des marchandises de votre entreprise divisé par le volume des ventes totales de votre entreprise
B25: =IF(Intro!$G$25="English",O25,P25) -> La valeur des ventes des marchandises de votre entreprise divisée par la valeur des ventes totales de votre entreprise | K25: % | O25: Your firm's sales value of the goods divided by your firm's total sales value | P25: La valeur des ventes des marchandises de votre entreprise divisée par la valeur des ventes totales de votre entreprise
B26: =IF(Intro!$G$25="English",O26,P26) -> Le volume de production des marchandises par votre entreprise divisé par le volume total de production des marchandises de votre pays | K26: % | O26: Your firm's production volume of the goods divided by your home country's total production volume of the goods | P26: Le volume de production des marchandises par votre entreprise divisé par le volume total de production des marchandises de votre pays
B27: =IF(Intro!$G$25="English",O27,P27) -> Le volume total des exportations des marchandises au Canada par votre entreprise divisé par le volume total des exportations des marchandises au Canada par votre pays | K27: % | O27: Your firm's volume of exports of the goods to Canada divided by your home country's total volume of exports of the goods to Canada | P27: Le volume total des exportations des marchandises au Canada par votre entreprise divisé par le volume total des exportations des marchandises au Canada par votre pays
B30: Question 2
B32: =IF(Intro!$G$25="English",O32,P32) -> Remplir le tableau suivant pour les ventes et les stocks des marchandises par votre entreprise. | O32: Complete the following table for your firm's sales and inventories of the goods. | P32: Remplir le tableau suivant pour les ventes et les stocks des marchandises par votre entreprise.
G34: =Variables!$B$6 -> 2023 | H34: =G34+1 -> 2024 | I34: =H34+1 -> 2025 | J34: =IF(Intro!$G$25="English",Variables!B9,Variables!C9) -> janv-juin 2025 | K34: =IF(Intro!$G$25="English",Variables!B10,Variables!C10) -> janv-juin 2026 | O34: *Adjust decimal points in tables as needed.
B36: =IF(Intro!$G$25="English",O36,P36) -> Stock d'ouverture | E36: =IF(Intro!$G$25="English",Variables!$B$23,Variables!$C$23) -> tonnes | H36: =G49 -> 0 | I36: =H49 -> 0 | J36: =H49 -> 0 | K36: =I49 -> 0 | O36: Beginning inventory | P36: Stock d'ouverture
B37: =IF(Intro!$G$25="English",O37,P37) -> Ventes dans le pays de production | E37: =IF(Intro!$G$25="English",Variables!$B$23,Variables!$C$23) -> tonnes | O37: Sales in country of production | P37: Ventes dans le pays de production
E38: =IF(Intro!$G$25="English",O38,P38) -> à l'usine (CAD) | O38: Ex Works (CAD) | P38: à l'usine (CAD)
E39: ="$ / "&IF(Intro!$G$25="English",Variables!$B$24,Variables!$C$24) -> $ / tonne | G39: =IF(G37=0,"-",G38/G37) -> - | H39: =IF(H37=0,"-",H38/H37) -> - | I39: =IF(I37=0,"-",I38/I37) -> - | J39: =IF(J37=0,"-",J38/J37) -> - | K39: =IF(K37=0,"-",K38/K37) -> -
B40: =IF(Intro!$G$25="English",O40,P40) -> Ventes à l'exportation au Canada | E40: =IF(Intro!$G$25="English",Variables!$B$23,Variables!$C$23) -> tonnes | O40: Export sales to Canada | P40: Ventes à l'exportation au Canada
E41: =IF(Intro!$G$25="English",O41,P41) -> FOB pays d'exportation (CAD) | O41: FOB Country of Export (CAD) | P41: FOB pays d'exportation (CAD)
E42: ="$ / "&IF(Intro!$G$25="English",Variables!$B$24,Variables!$C$24) -> $ / tonne | G42: =IF(G40=0,"-",G41/G40) -> - | H42: =IF(H40=0,"-",H41/H40) -> - | I42: =IF(I40=0,"-",I41/I40) -> - | J42: =IF(J40=0,"-",J41/J40) -> - | K42: =IF(K40=0,"-",K41/K40) -> -
B43: =IF(Intro!$G$25="English",O43,P43) -> Ventes à l'exportation aux États-Unis d'Amérique | E43: =IF(Intro!$G$25="English",Variables!$B$23,Variables!$C$23) -> tonnes | O43: Export sales to the United States of America | P43: Ventes à l'exportation aux États-Unis d'Amérique
E44: =E41 -> FOB pays d'exportation (CAD)
E45: ="$ / "&IF(Intro!$G$25="English",Variables!$B$24,Variables!$C$24) -> $ / tonne | G45: =IF(G43=0,"-",G44/G43) -> - | H45: =IF(H43=0,"-",H44/H43) -> - | I45: =IF(I43=0,"-",I44/I43) -> - | J45: =IF(J43=0,"-",J44/J43) -> - | K45: =IF(K43=0,"-",K44/K43) -> -
B46: =IF(Intro!$G$25="English",O46,P46) -> Ventes à l'exportation vers tous les autres pays | E46: =IF(Intro!$G$25="English",Variables!$B$23,Variables!$C$23) -> tonnes | O46: Export sales to all other countries | P46: Ventes à l'exportation vers tous les autres pays
E47: =E41 -> FOB pays d'exportation (CAD)
E48: ="$ / "&IF(Intro!$G$25="English",Variables!$B$24,Variables!$C$24) -> $ / tonne | G48: =IF(G46=0,"-",G47/G46) -> - | H48: =IF(H46=0,"-",H47/H46) -> - | I48: =IF(I46=0,"-",I47/I46) -> - | J48: =IF(J46=0,"-",J47/J46) -> - | K48: =IF(K46=0,"-",K47/K46) -> -
B49: =IF(Intro!$G$25="English",O49,P49) -> Stock de clôture | E49: =IF(Intro!$G$25="English",Variables!$B$23,Variables!$C$23) -> tonnes | O49: Ending inventory | P49: Stock de clôture
B51: =IF(Intro!$G$25="English",O51,P51) -> Précisez tous les autres pays: | O51: List all other countries: | P51: Précisez tous les autres pays:
B54: Question 3
...

Sheet AddPro
O1: hiddenc | P1: hiddenc
B2: ='Pro 1'!B2 -> PROTÉGÉ | O2: English | P2: Français
B4: =Info!B4 -> QUESTIONNAIRE À L'INTENTION DES PRODUCTEURS ÉTRANGERS
B5: =Info!B5 -> RR-2026-002 & RR-2026-003
B6: =Info!B6 -> BARRES D'ARMATURE POUR BÉTON
B8: =IF(Intro!$G$25="English",O8,P8) -> COMMENTAIRES PROTÉGÉS | O8: PROTECTED COMMENTS | P8: COMMENTAIRES PROTÉGÉS
B10: =IF(Intro!$G$25="English",O10,P10) -> Si votre entreprise désire ajouter des commentaires concernant vos réponses, vous les inscrivez ici. Indiquez à quelle question se rapportent vos commentaires. | O10: Should your firm wish to add any comments related to its responses, submit them here. Be sure to indicate the question number being commented on. | P10: Si votre entreprise désire ajouter des commentaires concernant vos réponses, vous les inscrivez ici. Indiquez à quelle question se rapportent vos commentaires.
O11: Tab and Question | P11: Onglet et question
A12: AA | C12: =IF(Intro!$G$25="English",O11,P11) -> Onglet et question | D12: =IF(Intro!$G$25="English",O12,P12) -> Commentaires | O12: Comments | P12: Commentaires
B13: =IF(Intro!$G$25="English",O13,P13) -> Commentaire 1 | O13: Comment 1 | P13: Commentaire 1
B23: =IF(Intro!$G$25="English",O23,P23) -> Commentaire 2 | O23: Comment 2 | P23: Commentaire 2
B33: =IF(Intro!$G$25="English",O33,P33) -> Commentaire 3 | O33: Comment 3 | P33: Commentaire 3
B43: =IF(Intro!$G$25="English",O43,P43) -> Commentaire 4 | O43: Comment 4 | P43: Commentaire 4
B53: =IF(Intro!$G$25="English",O53,P53) -> Commentaire 5 | O53: Comment 5 | P53: Commentaire 5

Sheet Confirm
O1: hiddenc | P1: hiddenc
B2: PUBLIC | O2: English | P2: Français
B4: =Info!B4 -> QUESTIONNAIRE À L'INTENTION DES PRODUCTEURS ÉTRANGERS
B5: =Info!B5 -> RR-2026-002 & RR-2026-003
B6: =Info!B6 -> BARRES D'ARMATURE POUR BÉTON
B8: =UPPER(IF(Intro!$G$25="English",O8,P8)) -> CONFIRMATION DES DONNÉES DÉCLARÉES | O8: CONFIRMATION OF REPORTED DATA | P8: CONFIRMATION DES DONNÉES DÉCLARÉES
B9: =UPPER(IF(Intro!$G$25="English",O9,P9)) -> GÉNÉRAL | O9: GENERAL | P9: GÉNÉRAL
J11: =IF(Intro!$G$25="English",O11,P11) -> Sélectionnez oui ou non | O11: Select Yes or No | P11: Sélectionnez oui ou non
B12: =IF(Intro!$G$25="English",O12,P12) -> Confirmez que toutes les données déclarées dans ce questionnaire concernent les marchandises telles que définies dans l’onglet « Intro ». | O12: Confirm that all data reported in this questionnaire pertain to the goods as defined in the "Intro" tab. | P12: Confirmez que toutes les données déclarées dans ce questionnaire concernent les marchandises telles que définies dans l’onglet « Intro ».
B13: =IF(Intro!$G$25="English",O13,P13) -> Confirmez que tous les volumes déclarés dans ce questionnaire sont en tonnes. | O13: ="Confirm that all volumes reported in this questionnaire are in "&(Variables!B23)&"." -> Confirm that all volumes reported in this questionnaire are in tonnes. | P13: ="Confirmez que tous les volumes déclarés dans ce questionnaire sont en "&(Variables!C23)&"." -> Confirmez que tous les volumes déclarés dans ce questionnaire sont en tonnes.
B14: =IF(Intro!$G$25="English",O14,P14) -> Confirmez que toutes les valeurs déclarées dans ce questionnaire sont en dollars canadiens. | E14: =IF(SUM('Pro 2'!E30:E31)<>0,"X","-") -> - | F14: =IF(SUM('Pro 2'!F30:F31)<>0,"X","-") -> - | G14: =IF(SUM('Pro 2'!G30:G31)<>0,"X","-") -> - | H14: =IF(SUM('Pro 2'!H30:H31)<>0,"X","-") -> - | I14: =IF(SUM('Pro 2'!I30:I31)<>0,"X","-") -> - | O14: Confirm that all values reported in this questionnaire are in Canadian dollars. | P14: Confirmez que toutes les valeurs déclarées dans ce questionnaire sont en dollars canadiens.
B15: =IF(Intro!$G$25="English",O15,P15) -> Confirmez que tous les renseignements déclarés le sont selon l’année civile. | E15: =IF(SUM('Pro 2'!E33:E34)<>0,"X","-") -> - | F15: =IF(SUM('Pro 2'!F33:F34)<>0,"X","-") -> - | G15: =IF(SUM('Pro 2'!G33:G33)<>0,"X","-") -> - | H15: =IF(SUM('Pro 2'!H33:H34)<>0,"X","-") -> X | I15: =IF(SUM('Pro 2'!I33:I34)<>0,"X","-") -> X | O15: Confirm that all information is reported on a calendar-year basis. | P15: Confirmez que tous les renseignements déclarés le sont selon l’année civile.
B17: =IF(Intro!$G$25="English",O17,P17) -> Si non, expliquez. | O17: If no, explain. | P17: Si non, expliquez.
B28: =UPPER(IF(Intro!$G$25="English",O28,P28)) -> PRODUCTION ET VENTES | O28: PRODUCTION AND SALES | P28: PRODUCTION ET VENTES
A30: AA | B30: =IF(Intro!$G$25="English",O30,P30) -> Note : L’information publique/non confidentielle dans ce tableau est générée automatiquement à partir de l’information fournie sous les onglets « Pro 1 » et « Pro 2 ». Par conséquent, toute modification à apporter à ce résumé public/non confidentiel doit être faite sous les onglets « Pro 1 » et « Pro 2 ». | O30: Note: Public/non-confidential information in this table is automatically generated from the information provided in the "Pro 1" and "Pro 2" tabs. Any changes to this public summary must therefore be made in the "Pro 1" and "Pro 2" tabs. | P30: Note : L’information publique/non confidentielle dans ce tableau est générée automatiquement à partir de l’information fournie sous les onglets « Pro 1 » et « Pro 2 ». Par conséquent, toute modification à apporter à ce résumé public/non confidentiel doit être faite sous les onglets « Pro 1 » et « Pro 2 ».
E32: =Variables!B6 -> 2023 | F32: =E32+1 -> 2024 | G32: =F32+1 -> 2025 | H32: ='Pro 1'!J17 -> janv-juin 2025 | I32: ='Pro 1'!K17 -> janv-juin 2026
B34: ='Pro 1'!B19 -> Production des marchandises | E34: =IF('Pro 1'!G19<>0,"X","-") -> - | F34: =IF('Pro 1'!H19<>0,"X","-") -> - | G34: =IF('Pro 1'!I19<>0,"X","-") -> - | H34: =IF('Pro 1'!J19<>0,"X","-") -> - | I34: =IF('Pro 1'!K19<>0,"X","-") -> -
B35: ='Pro 2'!B37 -> Ventes dans le pays de production | E35: =IF(SUM('Pro 2'!G37:G38)<>0,"X","-") -> - | F35: =IF(SUM('Pro 2'!H37:H38)<>0,"X","-") -> - | G35: =IF(SUM('Pro 2'!I37:I38)<>0,"X","-") -> - | H35: =IF(SUM('Pro 2'!J37:J38)<>0,"X","-") -> - | I35: =IF(SUM('Pro 2'!K37:K38)<>0,"X","-") -> -
B36: ='Pro 2'!B40 -> Ventes à l'exportation au Canada | E36: =IF(SUM('Pro 2'!G40:G41)<>0,"X","-") -> - | F36: =IF(SUM('Pro 2'!H40:H41)<>0,"X","-") -> - | G36: =IF(SUM('Pro 2'!I40:I41)<>0,"X","-") -> - | H36: =IF(SUM('Pro 2'!J40:J41)<>0,"X","-") -> - | I36: =IF(SUM('Pro 2'!K40:K41)<>0,"X","-") -> -
B37: ='Pro 2'!B43 -> Ventes à l'exportation aux États-Unis d'Amérique | E37: =IF(SUM('Pro 2'!G43:G44)<>0,"X","-") -> - | F37: =IF(SUM('Pro 2'!H43:H44)<>0,"X","-") -> - | G37: =IF(SUM('Pro 2'!I43:I44)<>0,"X","-") -> - | H37: =IF(SUM('Pro 2'!J43:J44)<>0,"X","-") -> - | I37: =IF(SUM('Pro 2'!K43:K44)<>0,"X","-") -> -
B38: ='Pro 2'!B46 -> Ventes à l'exportation vers tous les autres pays | E38: =IF(SUM('Pro 2'!G46:G47)<>0,"X","-") -> - | F38: =IF(SUM('Pro 2'!H46:H47)<>0,"X","-") -> - | G38: =IF(SUM('Pro 2'!I46:I47)<>0,"X","-") -> - | H38: =IF(SUM('Pro 2'!J46:J47)<>0,"X","-") -> - | I38: =IF(SUM('Pro 2'!K46:K47)<>0,"X","-") -> -
B39: =IF(Intro!$G$25="English",O39,P39) -> Marchés d'exportation | E39: =IF('Pro 2'!D51="","-",'Pro 2'!D51) -> - | O39: Export markets | P39: Marchés d'exportation

Sheet DBFirm
A4: Company: | B4: Respondent Type: | C4: Activity: | D4: Country: | E4: Subject/Non: | F4: Other Country: | G4: Trade Level: | H4: Sales To: | I4: 2023 | J4: 2024 | K4: 2025 | L4: I-2025 | M4: I-2026
